BEGIN:VCALENDAR
VERSION:2.0
PRODID:-//Wicked City Roller Derby - ECPv6.15.20//NONSGML v1.0//EN
CALSCALE:GREGORIAN
METHOD:PUBLISH
X-ORIGINAL-URL:http://wickedcityrollerderby.com
X-WR-CALDESC:Events for Wicked City Roller Derby
REFRESH-INTERVAL;VALUE=DURATION:PT1H
X-Robots-Tag:noindex
X-PUBLISHED-TTL:PT1H
BEGIN:VTIMEZONE
TZID:UTC
BEGIN:STANDARD
TZOFFSETFROM:+0000
TZOFFSETTO:+0000
TZNAME:UTC
DTSTART:20250101T000000
END:STANDARD
END:VTIMEZONE
BEGIN:VEVENT
DTSTART;TZID=UTC:20260503T120000
DTEND;TZID=UTC:20260503T160000
DTSTAMP:20260420T161248
CREATED:20260215T205507Z
LAST-MODIFIED:20260215T205511Z
UID:2233-1777809600-1777824000@wickedcityrollerderby.com
SUMMARY:Open Streets NoMar
DESCRIPTION:Come see us at Wichita Open Streets on 21st Street! We will have a booth on the route where you can ask questions about watching\, joining\, or officiating roller derby!
URL:http://wickedcityrollerderby.com/event/open-streets-nomar/
CATEGORIES:Local Events
END:VEVENT
BEGIN:VEVENT
DTSTART;TZID=UTC:20260627T000000
DTEND;TZID=UTC:20260627T235959
DTSTAMP:20260420T161248
CREATED:20260215T212442Z
LAST-MODIFIED:20260215T212443Z
UID:2253-1782518400-1782604799@wickedcityrollerderby.com
SUMMARY:Wichita Pride Parade
DESCRIPTION:Come watch us skate & celebrate!
URL:http://wickedcityrollerderby.com/event/wichita-pride-parade/
CATEGORIES:Local Events
END:VEVENT
BEGIN:VEVENT
DTSTART;TZID=UTC:20260920T120000
DTEND;TZID=UTC:20260920T160000
DTSTAMP:20260420T161248
CREATED:20260215T210754Z
LAST-MODIFIED:20260215T211337Z
UID:2239-1789905600-1789920000@wickedcityrollerderby.com
SUMMARY:Open Streets Douglas
DESCRIPTION:Come see us at Wichita Open Streets on Douglas! We will have a booth on the route where you can ask questions about watching\, joining\, or officiating roller derby!
URL:http://wickedcityrollerderby.com/event/open-streets-douglas/
CATEGORIES:Local Events
END:VEVENT
END:VCALENDAR