BEGIN:VCALENDAR
VERSION:2.0
PRODID:-//Wicked City Roller Derby - ECPv6.15.20//NONSGML v1.0//EN
CALSCALE:GREGORIAN
METHOD:PUBLISH
X-ORIGINAL-URL:http://wickedcityrollerderby.com
X-WR-CALDESC:Events for Wicked City Roller Derby
REFRESH-INTERVAL;VALUE=DURATION:PT1H
X-Robots-Tag:noindex
X-PUBLISHED-TTL:PT1H
BEGIN:VTIMEZONE
TZID:UTC
BEGIN:STANDARD
TZOFFSETFROM:+0000
TZOFFSETTO:+0000
TZNAME:UTC
DTSTART:20250101T000000
END:STANDARD
END:VTIMEZONE
BEGIN:VEVENT
DTSTART;TZID=UTC:20260314T120000
DTEND;TZID=UTC:20260314T130000
DTSTAMP:20260420T175433
CREATED:20260208T052714Z
LAST-MODIFIED:20260208T052716Z
UID:2144-1773489600-1773493200@wickedcityrollerderby.com
SUMMARY:Delano Paddy Day Parade
DESCRIPTION:
URL:http://wickedcityrollerderby.com/event/delano-paddy-day-parade/
CATEGORIES:Local Events
END:VEVENT
END:VCALENDAR