BEGIN:VCALENDAR
VERSION:2.0
PRODID:-//Wicked City Roller Derby - ECPv6.15.20//NONSGML v1.0//EN
CALSCALE:GREGORIAN
METHOD:PUBLISH
X-ORIGINAL-URL:http://wickedcityrollerderby.com
X-WR-CALDESC:Events for Wicked City Roller Derby
REFRESH-INTERVAL;VALUE=DURATION:PT1H
X-Robots-Tag:noindex
X-PUBLISHED-TTL:PT1H
BEGIN:VTIMEZONE
TZID:UTC
BEGIN:STANDARD
TZOFFSETFROM:+0000
TZOFFSETTO:+0000
TZNAME:UTC
DTSTART:20240101T000000
END:STANDARD
END:VTIMEZONE
BEGIN:VEVENT
DTSTART;TZID=UTC:20260321T180000
DTEND;TZID=UTC:20260321T210000
DTSTAMP:20260422T125952
CREATED:20260208T044509Z
LAST-MODIFIED:20260215T212208Z
UID:2126-1774116000-1774126800@wickedcityrollerderby.com
SUMMARY:Home Game vs. Natural State (Double Header)
DESCRIPTION:Home season opener! Come watch Wicked City’s travel team play Natural State Roller Derby in game one\, then stick around for game two as the Delano Devils and Riverside Riot kick off their season! \n\n\n\nDoors open at 5:30
URL:http://wickedcityrollerderby.com/event/home-game-double-header/
LOCATION:The Cotillion\, 11120 W Kellogg Dr\, Wichita\, KS\, 67209\, United States
CATEGORIES:Games,Home Games
END:VEVENT
BEGIN:VEVENT
DTSTART;TZID=UTC:20260221T173000
DTEND;TZID=UTC:20260221T190000
DTSTAMP:20260422T125952
CREATED:20260208T045205Z
LAST-MODIFIED:20260215T212740Z
UID:2128-1771695000-1771700400@wickedcityrollerderby.com
SUMMARY:Away Game @ Topeka
DESCRIPTION:Away vs. Capital City Crushers. Watch us online!
URL:http://wickedcityrollerderby.com/event/away-game/
CATEGORIES:Away Games,Games
END:VEVENT
BEGIN:VEVENT
DTSTART;TZID=UTC:20251025T170000
DTEND;TZID=UTC:20251025T210000
DTSTAMP:20260422T125952
CREATED:20250224T031316Z
LAST-MODIFIED:20250224T032710Z
UID:1925-1761411600-1761426000@wickedcityrollerderby.com
SUMMARY:Double Header (Home Game)
DESCRIPTION:Game 1: Wicked City vs Kansas City Roller Warriors Game 2: Delano Devils vs Riverside Riot (Home Team Game)
URL:http://wickedcityrollerderby.com/event/double-header-home-game-2/
LOCATION:The Cotillion\, 11120 W Kellogg Dr\, Wichita\, KS\, 67209\, United States
CATEGORIES:Games,Home Games
ATTACH;FMTTYPE=image/jpeg:http://wickedcityrollerderby.com/wp-content/uploads/2025/02/WCRDvsKCRollerWarriors.jpg
END:VEVENT
BEGIN:VEVENT
DTSTART;TZID=UTC:20250712T170000
DTEND;TZID=UTC:20250712T210000
DTSTAMP:20260422T125952
CREATED:20250224T030554Z
LAST-MODIFIED:20250224T032546Z
UID:1921-1752339600-1752354000@wickedcityrollerderby.com
SUMMARY:Double Header (Home Game)
DESCRIPTION:Game 1: Wicked City vs South Central Roller Girls Game 2: Delano Devils vs Riverside Riot (Home Team Game)
URL:http://wickedcityrollerderby.com/event/double-header-home-game/
LOCATION:The Cotillion\, 11120 W Kellogg Dr\, Wichita\, KS\, 67209\, United States
CATEGORIES:Games,Home Games
ATTACH;FMTTYPE=image/jpeg:http://wickedcityrollerderby.com/wp-content/uploads/2025/02/WCRDvsSouthCentral.jpg
END:VEVENT
BEGIN:VEVENT
DTSTART;TZID=UTC:20250517T130000
DTEND;TZID=UTC:20250517T150000
DTSTAMP:20260422T125952
CREATED:20250224T025452Z
LAST-MODIFIED:20250224T025627Z
UID:1915-1747486800-1747494000@wickedcityrollerderby.com
SUMMARY:Wicked City vs Springfield (Away Game)
DESCRIPTION:
URL:http://wickedcityrollerderby.com/event/wicked-city-vs-springfield-away-game/
LOCATION:Brightspeed Ice Park\, 635 E Trafficway St\, Springfield\, Missouri\, 65806\, United States
CATEGORIES:Away Games,Games
ATTACH;FMTTYPE=image/jpeg:http://wickedcityrollerderby.com/wp-content/uploads/2025/02/WCRDvsSpringfield.jpg
END:VEVENT
END:VCALENDAR